BEGIN:VCALENDAR
VERSION:2.0
PRODID:icalendar-ruby
CALSCALE:GREGORIAN
METHOD:PUBLISH
BEGIN:VEVENT
DTSTAMP:20260423T091804Z
UID:5-1672636@fbcwillingboro.org
DTSTART:20250930T232000Z
DTEND:20251001T001000Z
CLASS:PUBLIC
CREATED:20260422T213518
DESCRIPTION:
LAST-MODIFIED:20260422T213518
LOCATION:
SUMMARY:PRAYER MEETING
URL;VALUE=URI:https://www.fbcwillingboro.org/events/prayer-meeting--5/2025-
 09-30
ATTACH;FILENAME=APP BIBLE.jpg;FMTTYPE=image/jpeg:https://dq5pwpg1q8ru0.clou
 dfront.net/2021/08/30/10/31/22/0be04806-d9fe-4c42-84d2-1ea1a3c897d8/APP%20
 BIBLE.jpg
END:VEVENT
END:VCALENDAR
